BEGIN:VCALENDAR
VERSION:2.0
PRODID:-//Two Rivers Campground - ECPv6.15.20//NONSGML v1.0//EN
CALSCALE:GREGORIAN
METHOD:PUBLISH
X-ORIGINAL-URL:https://www.tworiverscampground.com
X-WR-CALDESC:Events for Two Rivers Campground
REFRESH-INTERVAL;VALUE=DURATION:PT1H
X-Robots-Tag:noindex
X-PUBLISHED-TTL:PT1H
BEGIN:VTIMEZONE
TZID:America/Chicago
BEGIN:DAYLIGHT
TZOFFSETFROM:-0600
TZOFFSETTO:-0500
TZNAME:CDT
DTSTART:20180311T080000
END:DAYLIGHT
BEGIN:STANDARD
TZOFFSETFROM:-0500
TZOFFSETTO:-0600
TZNAME:CST
DTSTART:20181104T070000
END:STANDARD
BEGIN:DAYLIGHT
TZOFFSETFROM:-0600
TZOFFSETTO:-0500
TZNAME:CDT
DTSTART:20190310T080000
END:DAYLIGHT
BEGIN:STANDARD
TZOFFSETFROM:-0500
TZOFFSETTO:-0600
TZNAME:CST
DTSTART:20191103T070000
END:STANDARD
BEGIN:DAYLIGHT
TZOFFSETFROM:-0600
TZOFFSETTO:-0500
TZNAME:CDT
DTSTART:20200308T080000
END:DAYLIGHT
BEGIN:STANDARD
TZOFFSETFROM:-0500
TZOFFSETTO:-0600
TZNAME:CST
DTSTART:20201101T070000
END:STANDARD
END:VTIMEZONE
BEGIN:VEVENT
DTSTART;VALUE=DATE:20190930
DTEND;VALUE=DATE:20191001
DTSTAMP:20260420T030907
CREATED:20190711T180534Z
LAST-MODIFIED:20190711T180534Z
UID:10000367-1569801600-1569887999@www.tworiverscampground.com
SUMMARY:Pork McElhinny
DESCRIPTION:
URL:https://www.tworiverscampground.com/event/pork-mcelhinny-9/2019-09-30/
LOCATION:TN
GEO:35.5174913;-86.5804473
END:VEVENT
BEGIN:VEVENT
DTSTART;VALUE=DATE:20190923
DTEND;VALUE=DATE:20190924
DTSTAMP:20260420T030907
CREATED:20190711T180534Z
LAST-MODIFIED:20190711T180534Z
UID:10000366-1569196800-1569283199@www.tworiverscampground.com
SUMMARY:Pork McElhinny
DESCRIPTION:
URL:https://www.tworiverscampground.com/event/pork-mcelhinny-9/2019-09-23/
LOCATION:TN
GEO:35.5174913;-86.5804473
END:VEVENT
BEGIN:VEVENT
DTSTART;VALUE=DATE:20190916
DTEND;VALUE=DATE:20190917
DTSTAMP:20260420T030907
CREATED:20190711T180534Z
LAST-MODIFIED:20190711T180534Z
UID:10000365-1568592000-1568678399@www.tworiverscampground.com
SUMMARY:Pork McElhinny
DESCRIPTION:
URL:https://www.tworiverscampground.com/event/pork-mcelhinny-9/2019-09-16/
LOCATION:TN
GEO:35.5174913;-86.5804473
END:VEVENT
BEGIN:VEVENT
DTSTART;VALUE=DATE:20190909
DTEND;VALUE=DATE:20190910
DTSTAMP:20260420T030907
CREATED:20190711T180534Z
LAST-MODIFIED:20190711T180534Z
UID:10000364-1567987200-1568073599@www.tworiverscampground.com
SUMMARY:Pork McElhinny
DESCRIPTION:
URL:https://www.tworiverscampground.com/event/pork-mcelhinny-9/2019-09-09/
LOCATION:TN
GEO:35.5174913;-86.5804473
END:VEVENT
BEGIN:VEVENT
DTSTART;VALUE=DATE:20190902
DTEND;VALUE=DATE:20190903
DTSTAMP:20260420T030907
CREATED:20190711T180534Z
LAST-MODIFIED:20190711T180534Z
UID:10000363-1567382400-1567468799@www.tworiverscampground.com
SUMMARY:Pork McElhinny
DESCRIPTION:
URL:https://www.tworiverscampground.com/event/pork-mcelhinny-9/2019-09-02/
LOCATION:TN
GEO:35.5174913;-86.5804473
END:VEVENT
BEGIN:VEVENT
DTSTART;VALUE=DATE:20190826
DTEND;VALUE=DATE:20190827
DTSTAMP:20260420T030907
CREATED:20190711T180534Z
LAST-MODIFIED:20190711T180534Z
UID:10000362-1566777600-1566863999@www.tworiverscampground.com
SUMMARY:Pork McElhinny
DESCRIPTION:
URL:https://www.tworiverscampground.com/event/pork-mcelhinny-9/2019-08-26/
LOCATION:TN
GEO:35.5174913;-86.5804473
END:VEVENT
BEGIN:VEVENT
DTSTART;VALUE=DATE:20190819
DTEND;VALUE=DATE:20190820
DTSTAMP:20260420T030907
CREATED:20190711T180534Z
LAST-MODIFIED:20190711T180534Z
UID:10000361-1566172800-1566259199@www.tworiverscampground.com
SUMMARY:Pork McElhinny
DESCRIPTION:
URL:https://www.tworiverscampground.com/event/pork-mcelhinny-9/2019-08-19/
LOCATION:TN
GEO:35.5174913;-86.5804473
END:VEVENT
BEGIN:VEVENT
DTSTART;VALUE=DATE:20190812
DTEND;VALUE=DATE:20190813
DTSTAMP:20260420T030907
CREATED:20190711T180534Z
LAST-MODIFIED:20190711T180534Z
UID:10000360-1565568000-1565654399@www.tworiverscampground.com
SUMMARY:Pork McElhinny
DESCRIPTION:
URL:https://www.tworiverscampground.com/event/pork-mcelhinny-9/2019-08-12/
LOCATION:TN
GEO:35.5174913;-86.5804473
END:VEVENT
BEGIN:VEVENT
DTSTART;VALUE=DATE:20190805
DTEND;VALUE=DATE:20190806
DTSTAMP:20260420T030907
CREATED:20190711T180534Z
LAST-MODIFIED:20190711T180534Z
UID:10000359-1564963200-1565049599@www.tworiverscampground.com
SUMMARY:Pork McElhinny
DESCRIPTION:
URL:https://www.tworiverscampground.com/event/pork-mcelhinny-9/2019-08-05/
LOCATION:TN
GEO:35.5174913;-86.5804473
END:VEVENT
END:VCALENDAR