BEGIN:VCALENDAR
VERSION:2.0
PRODID:-//Two Rivers Campground - ECPv6.15.20//NONSGML v1.0//EN
CALSCALE:GREGORIAN
METHOD:PUBLISH
X-WR-CALNAME:Two Rivers Campground
X-ORIGINAL-URL:https://www.tworiverscampground.com
X-WR-CALDESC:Events for Two Rivers Campground
REFRESH-INTERVAL;VALUE=DURATION:PT1H
X-Robots-Tag:noindex
X-PUBLISHED-TTL:PT1H
BEGIN:VTIMEZONE
TZID:America/Chicago
BEGIN:DAYLIGHT
TZOFFSETFROM:-0600
TZOFFSETTO:-0500
TZNAME:CDT
DTSTART:20180311T080000
END:DAYLIGHT
BEGIN:STANDARD
TZOFFSETFROM:-0500
TZOFFSETTO:-0600
TZNAME:CST
DTSTART:20181104T070000
END:STANDARD
BEGIN:DAYLIGHT
TZOFFSETFROM:-0600
TZOFFSETTO:-0500
TZNAME:CDT
DTSTART:20190310T080000
END:DAYLIGHT
BEGIN:STANDARD
TZOFFSETFROM:-0500
TZOFFSETTO:-0600
TZNAME:CST
DTSTART:20191103T070000
END:STANDARD
BEGIN:DAYLIGHT
TZOFFSETFROM:-0600
TZOFFSETTO:-0500
TZNAME:CDT
DTSTART:20200308T080000
END:DAYLIGHT
BEGIN:STANDARD
TZOFFSETFROM:-0500
TZOFFSETTO:-0600
TZNAME:CST
DTSTART:20201101T070000
END:STANDARD
END:VTIMEZONE
BEGIN:VEVENT
DTSTART;VALUE=DATE:20190521
DTEND;VALUE=DATE:20190522
DTSTAMP:20260424T025429
CREATED:20190319T182639Z
LAST-MODIFIED:20190319T182639Z
UID:10000315-1558396800-1558483199@www.tworiverscampground.com
SUMMARY:Amy & Kevin
DESCRIPTION:
URL:https://www.tworiverscampground.com/event/amy-kevin/2019-05-21/
LOCATION:TN
GEO:35.5174913;-86.5804473
END:VEVENT
BEGIN:VEVENT
DTSTART;VALUE=DATE:20190514
DTEND;VALUE=DATE:20190515
DTSTAMP:20260424T025429
CREATED:20190319T182639Z
LAST-MODIFIED:20190319T182639Z
UID:10000314-1557792000-1557878399@www.tworiverscampground.com
SUMMARY:Amy & Kevin
DESCRIPTION:
URL:https://www.tworiverscampground.com/event/amy-kevin/2019-05-14/
LOCATION:TN
GEO:35.5174913;-86.5804473
END:VEVENT
BEGIN:VEVENT
DTSTART;VALUE=DATE:20190507
DTEND;VALUE=DATE:20190508
DTSTAMP:20260424T025429
CREATED:20190319T182639Z
LAST-MODIFIED:20190319T182639Z
UID:10000313-1557187200-1557273599@www.tworiverscampground.com
SUMMARY:Amy & Kevin
DESCRIPTION:
URL:https://www.tworiverscampground.com/event/amy-kevin/2019-05-07/
LOCATION:TN
GEO:35.5174913;-86.5804473
END:VEVENT
END:VCALENDAR