BEGIN:VCALENDAR
VERSION:2.0
PRODID:-//Two Rivers Campground - ECPv6.15.20//NONSGML v1.0//EN
CALSCALE:GREGORIAN
METHOD:PUBLISH
X-WR-CALNAME:Two Rivers Campground
X-ORIGINAL-URL:https://www.tworiverscampground.com
X-WR-CALDESC:Events for Two Rivers Campground
REFRESH-INTERVAL;VALUE=DURATION:PT1H
X-Robots-Tag:noindex
X-PUBLISHED-TTL:PT1H
BEGIN:VTIMEZONE
TZID:America/Chicago
BEGIN:DAYLIGHT
TZOFFSETFROM:-0600
TZOFFSETTO:-0500
TZNAME:CDT
DTSTART:20180311T080000
END:DAYLIGHT
BEGIN:STANDARD
TZOFFSETFROM:-0500
TZOFFSETTO:-0600
TZNAME:CST
DTSTART:20181104T070000
END:STANDARD
BEGIN:DAYLIGHT
TZOFFSETFROM:-0600
TZOFFSETTO:-0500
TZNAME:CDT
DTSTART:20190310T080000
END:DAYLIGHT
BEGIN:STANDARD
TZOFFSETFROM:-0500
TZOFFSETTO:-0600
TZNAME:CST
DTSTART:20191103T070000
END:STANDARD
BEGIN:DAYLIGHT
TZOFFSETFROM:-0600
TZOFFSETTO:-0500
TZNAME:CDT
DTSTART:20200308T080000
END:DAYLIGHT
BEGIN:STANDARD
TZOFFSETFROM:-0500
TZOFFSETTO:-0600
TZNAME:CST
DTSTART:20201101T070000
END:STANDARD
END:VTIMEZONE
BEGIN:VEVENT
DTSTART;VALUE=DATE:20190730
DTEND;VALUE=DATE:20190731
DTSTAMP:20260420T042549
CREATED:20190319T182639Z
LAST-MODIFIED:20190319T182639Z
UID:10000325-1564444800-1564531199@www.tworiverscampground.com
SUMMARY:Amy & Kevin
DESCRIPTION:
URL:https://www.tworiverscampground.com/event/amy-kevin/2019-07-30/
LOCATION:TN
GEO:35.5174913;-86.5804473
END:VEVENT
BEGIN:VEVENT
DTSTART;VALUE=DATE:20190723
DTEND;VALUE=DATE:20190724
DTSTAMP:20260420T042549
CREATED:20190319T182639Z
LAST-MODIFIED:20190319T182639Z
UID:10000324-1563840000-1563926399@www.tworiverscampground.com
SUMMARY:Amy & Kevin
DESCRIPTION:
URL:https://www.tworiverscampground.com/event/amy-kevin/2019-07-23/
LOCATION:TN
GEO:35.5174913;-86.5804473
END:VEVENT
BEGIN:VEVENT
DTSTART;VALUE=DATE:20190716
DTEND;VALUE=DATE:20190717
DTSTAMP:20260420T042549
CREATED:20190319T182639Z
LAST-MODIFIED:20190319T182639Z
UID:10000323-1563235200-1563321599@www.tworiverscampground.com
SUMMARY:Amy & Kevin
DESCRIPTION:
URL:https://www.tworiverscampground.com/event/amy-kevin/2019-07-16/
LOCATION:TN
GEO:35.5174913;-86.5804473
END:VEVENT
BEGIN:VEVENT
DTSTART;VALUE=DATE:20190709
DTEND;VALUE=DATE:20190710
DTSTAMP:20260420T042549
CREATED:20190319T182639Z
LAST-MODIFIED:20190319T182639Z
UID:10000322-1562630400-1562716799@www.tworiverscampground.com
SUMMARY:Amy & Kevin
DESCRIPTION:
URL:https://www.tworiverscampground.com/event/amy-kevin/2019-07-09/
LOCATION:TN
GEO:35.5174913;-86.5804473
END:VEVENT
BEGIN:VEVENT
DTSTART;VALUE=DATE:20190702
DTEND;VALUE=DATE:20190703
DTSTAMP:20260420T042549
CREATED:20190319T182639Z
LAST-MODIFIED:20190319T182639Z
UID:10000321-1562025600-1562111999@www.tworiverscampground.com
SUMMARY:Amy & Kevin
DESCRIPTION:
URL:https://www.tworiverscampground.com/event/amy-kevin/2019-07-02/
LOCATION:TN
GEO:35.5174913;-86.5804473
END:VEVENT
BEGIN:VEVENT
DTSTART;VALUE=DATE:20190625
DTEND;VALUE=DATE:20190626
DTSTAMP:20260420T042549
CREATED:20190319T182639Z
LAST-MODIFIED:20190319T182639Z
UID:10000320-1561420800-1561507199@www.tworiverscampground.com
SUMMARY:Amy & Kevin
DESCRIPTION:
URL:https://www.tworiverscampground.com/event/amy-kevin/2019-06-25/
LOCATION:TN
GEO:35.5174913;-86.5804473
END:VEVENT
BEGIN:VEVENT
DTSTART;VALUE=DATE:20190618
DTEND;VALUE=DATE:20190619
DTSTAMP:20260420T042549
CREATED:20190319T182639Z
LAST-MODIFIED:20190319T182639Z
UID:10000319-1560816000-1560902399@www.tworiverscampground.com
SUMMARY:Amy & Kevin
DESCRIPTION:
URL:https://www.tworiverscampground.com/event/amy-kevin/2019-06-18/
LOCATION:TN
GEO:35.5174913;-86.5804473
END:VEVENT
BEGIN:VEVENT
DTSTART;VALUE=DATE:20190611
DTEND;VALUE=DATE:20190612
DTSTAMP:20260420T042549
CREATED:20190319T182639Z
LAST-MODIFIED:20190319T182639Z
UID:10000318-1560211200-1560297599@www.tworiverscampground.com
SUMMARY:Amy & Kevin
DESCRIPTION:
URL:https://www.tworiverscampground.com/event/amy-kevin/2019-06-11/
LOCATION:TN
GEO:35.5174913;-86.5804473
END:VEVENT
BEGIN:VEVENT
DTSTART;VALUE=DATE:20190604
DTEND;VALUE=DATE:20190605
DTSTAMP:20260420T042549
CREATED:20190319T182639Z
LAST-MODIFIED:20190319T182639Z
UID:10000317-1559606400-1559692799@www.tworiverscampground.com
SUMMARY:Amy & Kevin
DESCRIPTION:
URL:https://www.tworiverscampground.com/event/amy-kevin/2019-06-04/
LOCATION:TN
GEO:35.5174913;-86.5804473
END:VEVENT
BEGIN:VEVENT
DTSTART;VALUE=DATE:20190528
DTEND;VALUE=DATE:20190529
DTSTAMP:20260420T042549
CREATED:20190319T182639Z
LAST-MODIFIED:20190319T182639Z
UID:10000316-1559001600-1559087999@www.tworiverscampground.com
SUMMARY:Amy & Kevin
DESCRIPTION:
URL:https://www.tworiverscampground.com/event/amy-kevin/2019-05-28/
LOCATION:TN
GEO:35.5174913;-86.5804473
END:VEVENT
BEGIN:VEVENT
DTSTART;VALUE=DATE:20190521
DTEND;VALUE=DATE:20190522
DTSTAMP:20260420T042549
CREATED:20190319T182639Z
LAST-MODIFIED:20190319T182639Z
UID:10000315-1558396800-1558483199@www.tworiverscampground.com
SUMMARY:Amy & Kevin
DESCRIPTION:
URL:https://www.tworiverscampground.com/event/amy-kevin/2019-05-21/
LOCATION:TN
GEO:35.5174913;-86.5804473
END:VEVENT
BEGIN:VEVENT
DTSTART;VALUE=DATE:20190514
DTEND;VALUE=DATE:20190515
DTSTAMP:20260420T042549
CREATED:20190319T182639Z
LAST-MODIFIED:20190319T182639Z
UID:10000314-1557792000-1557878399@www.tworiverscampground.com
SUMMARY:Amy & Kevin
DESCRIPTION:
URL:https://www.tworiverscampground.com/event/amy-kevin/2019-05-14/
LOCATION:TN
GEO:35.5174913;-86.5804473
END:VEVENT
BEGIN:VEVENT
DTSTART;VALUE=DATE:20190507
DTEND;VALUE=DATE:20190508
DTSTAMP:20260420T042549
CREATED:20190319T182639Z
LAST-MODIFIED:20190319T182639Z
UID:10000313-1557187200-1557273599@www.tworiverscampground.com
SUMMARY:Amy & Kevin
DESCRIPTION:
URL:https://www.tworiverscampground.com/event/amy-kevin/2019-05-07/
LOCATION:TN
GEO:35.5174913;-86.5804473
END:VEVENT
END:VCALENDAR