BEGIN:VCALENDAR
VERSION:2.0
PRODID:-//Two Rivers Campground - ECPv6.15.20//NONSGML v1.0//EN
CALSCALE:GREGORIAN
METHOD:PUBLISH
X-WR-CALNAME:Two Rivers Campground
X-ORIGINAL-URL:https://www.tworiverscampground.com
X-WR-CALDESC:Events for Two Rivers Campground
REFRESH-INTERVAL;VALUE=DURATION:PT1H
X-Robots-Tag:noindex
X-PUBLISHED-TTL:PT1H
BEGIN:VTIMEZONE
TZID:America/Chicago
BEGIN:DAYLIGHT
TZOFFSETFROM:-0600
TZOFFSETTO:-0500
TZNAME:CDT
DTSTART:20170312T080000
END:DAYLIGHT
BEGIN:STANDARD
TZOFFSETFROM:-0500
TZOFFSETTO:-0600
TZNAME:CST
DTSTART:20171105T070000
END:STANDARD
BEGIN:DAYLIGHT
TZOFFSETFROM:-0600
TZOFFSETTO:-0500
TZNAME:CDT
DTSTART:20180311T080000
END:DAYLIGHT
BEGIN:STANDARD
TZOFFSETFROM:-0500
TZOFFSETTO:-0600
TZNAME:CST
DTSTART:20181104T070000
END:STANDARD
BEGIN:DAYLIGHT
TZOFFSETFROM:-0600
TZOFFSETTO:-0500
TZNAME:CDT
DTSTART:20190310T080000
END:DAYLIGHT
BEGIN:STANDARD
TZOFFSETFROM:-0500
TZOFFSETTO:-0600
TZNAME:CST
DTSTART:20191103T070000
END:STANDARD
END:VTIMEZONE
BEGIN:VTIMEZONE
TZID:UTC
BEGIN:STANDARD
TZOFFSETFROM:+0000
TZOFFSETTO:+0000
TZNAME:UTC
DTSTART:20160101T000000
END:STANDARD
END:VTIMEZONE
BEGIN:VEVENT
DTSTART;TZID=America/Chicago:20180514T190000
DTEND;TZID=America/Chicago:20180514T210000
DTSTAMP:20260420T031443
CREATED:20180314T162031Z
LAST-MODIFIED:20180314T165917Z
UID:10000217-1526324400-1526331600@www.tworiverscampground.com
SUMMARY:Pork McElhinny
DESCRIPTION:Learn More
URL:https://www.tworiverscampground.com/event/pork-mcelhinny/2018-05-14/
END:VEVENT
BEGIN:VEVENT
DTSTART;TZID=America/Chicago:20180513T193000
DTEND;TZID=America/Chicago:20180513T210000
DTSTAMP:20260420T031443
CREATED:20180319T141516Z
LAST-MODIFIED:20180319T141714Z
UID:10000236-1526239800-1526245200@www.tworiverscampground.com
SUMMARY:Tim Atwood
DESCRIPTION:Learn More
URL:https://www.tworiverscampground.com/event/tim-atwood/2018-05-13/
END:VEVENT
BEGIN:VEVENT
DTSTART;TZID=America/Chicago:20180509T190000
DTEND;TZID=America/Chicago:20180509T210000
DTSTAMP:20260420T031443
CREATED:20180314T161508Z
LAST-MODIFIED:20180314T161508Z
UID:10000210-1525892400-1525899600@www.tworiverscampground.com
SUMMARY:Lisa Lally
DESCRIPTION:
URL:https://www.tworiverscampground.com/event/lisa-lally-2/
END:VEVENT
BEGIN:VEVENT
DTSTART;TZID=America/Chicago:20180507T190000
DTEND;TZID=America/Chicago:20180507T210000
DTSTAMP:20260420T031443
CREATED:20180314T162031Z
LAST-MODIFIED:20180314T165917Z
UID:10000216-1525719600-1525726800@www.tworiverscampground.com
SUMMARY:Pork McElhinny
DESCRIPTION:Learn More
URL:https://www.tworiverscampground.com/event/pork-mcelhinny/2018-05-07/
END:VEVENT
BEGIN:VEVENT
DTSTART;TZID=America/Chicago:20180506T193000
DTEND;TZID=America/Chicago:20180506T210000
DTSTAMP:20260420T031443
CREATED:20180319T141516Z
LAST-MODIFIED:20180319T141714Z
UID:10000235-1525635000-1525640400@www.tworiverscampground.com
SUMMARY:Tim Atwood
DESCRIPTION:Learn More
URL:https://www.tworiverscampground.com/event/tim-atwood/2018-05-06/
END:VEVENT
BEGIN:VEVENT
DTSTART;TZID=America/Chicago:20180503T190000
DTEND;TZID=America/Chicago:20180503T210000
DTSTAMP:20260420T031443
CREATED:20180314T171219Z
LAST-MODIFIED:20180319T142810Z
UID:10000230-1525374000-1525381200@www.tworiverscampground.com
SUMMARY:Paul Hill
DESCRIPTION:
URL:https://www.tworiverscampground.com/event/paul-hill/2018-05-03/
END:VEVENT
BEGIN:VEVENT
DTSTART;TZID=America/Chicago:20180502T190000
DTEND;TZID=America/Chicago:20180502T210000
DTSTAMP:20260420T031443
CREATED:20180314T161255Z
LAST-MODIFIED:20180314T161346Z
UID:10000209-1525287600-1525294800@www.tworiverscampground.com
SUMMARY:Lisa Lally
DESCRIPTION:
URL:https://www.tworiverscampground.com/event/lisa-lally/
END:VEVENT
BEGIN:VEVENT
DTSTART;VALUE=DATE:20180214
DTEND;VALUE=DATE:20180215
DTSTAMP:20260420T031443
CREATED:20170809T183446Z
LAST-MODIFIED:20170809T183457Z
UID:10000207-1518566400-1518652799@www.tworiverscampground.com
SUMMARY:Valentine's Day
DESCRIPTION:
URL:https://www.tworiverscampground.com/event/valentines-day/
END:VEVENT
BEGIN:VEVENT
DTSTART;VALUE=DATE:20180101
DTEND;VALUE=DATE:20180102
DTSTAMP:20260420T031443
CREATED:20170809T183038Z
LAST-MODIFIED:20180302T190000Z
UID:10000206-1514764800-1514851199@www.tworiverscampground.com
SUMMARY:Office Closed for New Years
DESCRIPTION:
URL:https://www.tworiverscampground.com/event/office-closed-for-new-years/
END:VEVENT
BEGIN:VEVENT
DTSTART;VALUE=DATE:20171224
DTEND;VALUE=DATE:20171226
DTSTAMP:20260420T031443
CREATED:20170809T182505Z
LAST-MODIFIED:20180302T185956Z
UID:10000205-1514073600-1514246399@www.tworiverscampground.com
SUMMARY:Office Closed for Christmas
DESCRIPTION:
URL:https://www.tworiverscampground.com/event/office-closed-for-christmas/
END:VEVENT
BEGIN:VEVENT
DTSTART;TZID=UTC:20171223T180000
DTEND;TZID=UTC:20171223T220000
DTSTAMP:20260420T031443
CREATED:20170809T182401Z
LAST-MODIFIED:20170809T182401Z
UID:10000203-1514052000-1514066400@www.tworiverscampground.com
SUMMARY:Christmas Party
DESCRIPTION:
URL:https://www.tworiverscampground.com/event/christmas-party/
END:VEVENT
BEGIN:VEVENT
DTSTART;VALUE=DATE:20171123
DTEND;VALUE=DATE:20171124
DTSTAMP:20260420T031443
CREATED:20170809T182434Z
LAST-MODIFIED:20170809T182434Z
UID:10000204-1511395200-1511481599@www.tworiverscampground.com
SUMMARY:Office Closed for Thanksgiving
DESCRIPTION:
URL:https://www.tworiverscampground.com/event/office-closed-for-thanksgiving/
END:VEVENT
END:VCALENDAR